BEGIN:VCALENDAR
VERSION:2.0
PRODID:-//Shiloh Baptist Church - ECPv6.15.20//NONSGML v1.0//EN
CALSCALE:GREGORIAN
METHOD:PUBLISH
X-WR-CALNAME:Shiloh Baptist Church
X-ORIGINAL-URL:https://shiloh-baptist.church
X-WR-CALDESC:Events for Shiloh Baptist Church
REFRESH-INTERVAL;VALUE=DURATION:PT1H
X-Robots-Tag:noindex
X-PUBLISHED-TTL:PT1H
BEGIN:VTIMEZONE
TZID:America/New_York
BEGIN:DAYLIGHT
TZOFFSETFROM:-0500
TZOFFSETTO:-0400
TZNAME:EDT
DTSTART:20240310T070000
END:DAYLIGHT
BEGIN:STANDARD
TZOFFSETFROM:-0400
TZOFFSETTO:-0500
TZNAME:EST
DTSTART:20241103T060000
END:STANDARD
BEGIN:DAYLIGHT
TZOFFSETFROM:-0500
TZOFFSETTO:-0400
TZNAME:EDT
DTSTART:20250309T070000
END:DAYLIGHT
BEGIN:STANDARD
TZOFFSETFROM:-0400
TZOFFSETTO:-0500
TZNAME:EST
DTSTART:20251102T060000
END:STANDARD
BEGIN:DAYLIGHT
TZOFFSETFROM:-0500
TZOFFSETTO:-0400
TZNAME:EDT
DTSTART:20260308T070000
END:DAYLIGHT
BEGIN:STANDARD
TZOFFSETFROM:-0400
TZOFFSETTO:-0500
TZNAME:EST
DTSTART:20261101T060000
END:STANDARD
END:VTIMEZONE
BEGIN:VEVENT
DTSTART;TZID=America/New_York:20250413T000000
DTEND;TZID=America/New_York:20250413T235959
DTSTAMP:20260423T032258
CREATED:20250324T155719Z
LAST-MODIFIED:20250324T161159Z
UID:1879-1744502400-1744588799@shiloh-baptist.church
SUMMARY:AWANA Will Not Meet
DESCRIPTION:
URL:https://shiloh-baptist.church/event/awana-will-not-meet/
END:VEVENT
BEGIN:VEVENT
DTSTART;TZID=America/New_York:20250413T120000
DTEND;TZID=America/New_York:20250413T140000
DTSTAMP:20260423T032258
CREATED:20250324T155031Z
LAST-MODIFIED:20250324T155032Z
UID:1869-1744545600-1744552800@shiloh-baptist.church
SUMMARY:Lunch and Easter Egg Hunt
DESCRIPTION:
URL:https://shiloh-baptist.church/event/lunch-and-easter-egg-hunt/
END:VEVENT
BEGIN:VEVENT
DTSTART;TZID=America/New_York:20250413T180000
DTEND;TZID=America/New_York:20250413T200000
DTSTAMP:20260423T032258
CREATED:20250324T155154Z
LAST-MODIFIED:20250324T155155Z
UID:1871-1744567200-1744574400@shiloh-baptist.church
SUMMARY:Youth Passover Meal
DESCRIPTION:
URL:https://shiloh-baptist.church/event/youth-passover-meal/
END:VEVENT
END:VCALENDAR