BEGIN:VCALENDAR
VERSION:2.0
PRODID:-//Shiloh Baptist Church - ECPv6.15.20//NONSGML v1.0//EN
CALSCALE:GREGORIAN
METHOD:PUBLISH
X-WR-CALNAME:Shiloh Baptist Church
X-ORIGINAL-URL:https://shiloh-baptist.church
X-WR-CALDESC:Events for Shiloh Baptist Church
REFRESH-INTERVAL;VALUE=DURATION:PT1H
X-Robots-Tag:noindex
X-PUBLISHED-TTL:PT1H
BEGIN:VTIMEZONE
TZID:America/New_York
BEGIN:DAYLIGHT
TZOFFSETFROM:-0500
TZOFFSETTO:-0400
TZNAME:EDT
DTSTART:20240310T070000
END:DAYLIGHT
BEGIN:STANDARD
TZOFFSETFROM:-0400
TZOFFSETTO:-0500
TZNAME:EST
DTSTART:20241103T060000
END:STANDARD
BEGIN:DAYLIGHT
TZOFFSETFROM:-0500
TZOFFSETTO:-0400
TZNAME:EDT
DTSTART:20250309T070000
END:DAYLIGHT
BEGIN:STANDARD
TZOFFSETFROM:-0400
TZOFFSETTO:-0500
TZNAME:EST
DTSTART:20251102T060000
END:STANDARD
BEGIN:DAYLIGHT
TZOFFSETFROM:-0500
TZOFFSETTO:-0400
TZNAME:EDT
DTSTART:20260308T070000
END:DAYLIGHT
BEGIN:STANDARD
TZOFFSETFROM:-0400
TZOFFSETTO:-0500
TZNAME:EST
DTSTART:20261101T060000
END:STANDARD
END:VTIMEZONE
BEGIN:VEVENT
DTSTART;TZID=America/New_York:20250907T080000
DTEND;TZID=America/New_York:20250907T090000
DTSTAMP:20260420T140640
CREATED:20250819T142755Z
LAST-MODIFIED:20250819T142756Z
UID:2115-1757232000-1757235600@shiloh-baptist.church
SUMMARY:Deacons Meeting
DESCRIPTION:Devotion by James Harper
URL:https://shiloh-baptist.church/event/deacons-meeting-6/
END:VEVENT
BEGIN:VEVENT
DTSTART;TZID=America/New_York:20250907T093000
DTEND;TZID=America/New_York:20250907T100000
DTSTAMP:20260420T140640
CREATED:20250819T142610Z
LAST-MODIFIED:20250819T142611Z
UID:2113-1757237400-1757239200@shiloh-baptist.church
SUMMARY:Sunday School Breakfast
DESCRIPTION:Activities Building
URL:https://shiloh-baptist.church/event/sunday-school-breakfast-3/
END:VEVENT
BEGIN:VEVENT
DTSTART;TZID=America/New_York:20250907T180000
DTEND;TZID=America/New_York:20250907T200000
DTSTAMP:20260420T140640
CREATED:20250819T144856Z
LAST-MODIFIED:20250819T144857Z
UID:2141-1757268000-1757275200@shiloh-baptist.church
SUMMARY:AWANA
DESCRIPTION:
URL:https://shiloh-baptist.church/event/awana/
END:VEVENT
END:VCALENDAR