BEGIN:VCALENDAR
VERSION:2.0
PRODID:-//Shiloh Baptist Church - ECPv6.15.20//NONSGML v1.0//EN
CALSCALE:GREGORIAN
METHOD:PUBLISH
X-WR-CALNAME:Shiloh Baptist Church
X-ORIGINAL-URL:https://shiloh-baptist.church
X-WR-CALDESC:Events for Shiloh Baptist Church
REFRESH-INTERVAL;VALUE=DURATION:PT1H
X-Robots-Tag:noindex
X-PUBLISHED-TTL:PT1H
BEGIN:VTIMEZONE
TZID:America/New_York
BEGIN:DAYLIGHT
TZOFFSETFROM:-0500
TZOFFSETTO:-0400
TZNAME:EDT
DTSTART:20240310T070000
END:DAYLIGHT
BEGIN:STANDARD
TZOFFSETFROM:-0400
TZOFFSETTO:-0500
TZNAME:EST
DTSTART:20241103T060000
END:STANDARD
BEGIN:DAYLIGHT
TZOFFSETFROM:-0500
TZOFFSETTO:-0400
TZNAME:EDT
DTSTART:20250309T070000
END:DAYLIGHT
BEGIN:STANDARD
TZOFFSETFROM:-0400
TZOFFSETTO:-0500
TZNAME:EST
DTSTART:20251102T060000
END:STANDARD
BEGIN:DAYLIGHT
TZOFFSETFROM:-0500
TZOFFSETTO:-0400
TZNAME:EDT
DTSTART:20260308T070000
END:DAYLIGHT
BEGIN:STANDARD
TZOFFSETFROM:-0400
TZOFFSETTO:-0500
TZNAME:EST
DTSTART:20261101T060000
END:STANDARD
END:VTIMEZONE
BEGIN:VEVENT
DTSTART;TZID=America/New_York:20250921T120000
DTEND;TZID=America/New_York:20250921T123000
DTSTAMP:20260420T140728
CREATED:20250819T144108Z
LAST-MODIFIED:20250819T144109Z
UID:2131-1758456000-1758457800@shiloh-baptist.church
SUMMARY:Church Conference
DESCRIPTION:
URL:https://shiloh-baptist.church/event/church-conference-4/
END:VEVENT
BEGIN:VEVENT
DTSTART;TZID=America/New_York:20250921T170000
DTEND;TZID=America/New_York:20250921T180000
DTSTAMP:20260420T140728
CREATED:20250819T144213Z
LAST-MODIFIED:20250819T144214Z
UID:2133-1758474000-1758477600@shiloh-baptist.church
SUMMARY:Council Meeting
DESCRIPTION:
URL:https://shiloh-baptist.church/event/council-meeting-4/
END:VEVENT
BEGIN:VEVENT
DTSTART;TZID=America/New_York:20250921T180000
DTEND;TZID=America/New_York:20250921T200000
DTSTAMP:20260420T140728
CREATED:20250819T145107Z
LAST-MODIFIED:20250819T145108Z
UID:2145-1758477600-1758484800@shiloh-baptist.church
SUMMARY:AWANA
DESCRIPTION:Backwards Night
URL:https://shiloh-baptist.church/event/awana-5/
END:VEVENT
END:VCALENDAR