BEGIN:VCALENDAR
VERSION:2.0
PRODID:-//Shiloh Baptist Church - ECPv6.15.20//NONSGML v1.0//EN
CALSCALE:GREGORIAN
METHOD:PUBLISH
X-WR-CALNAME:Shiloh Baptist Church
X-ORIGINAL-URL:https://shiloh-baptist.church
X-WR-CALDESC:Events for Shiloh Baptist Church
REFRESH-INTERVAL;VALUE=DURATION:PT1H
X-Robots-Tag:noindex
X-PUBLISHED-TTL:PT1H
BEGIN:VTIMEZONE
TZID:America/New_York
BEGIN:DAYLIGHT
TZOFFSETFROM:-0500
TZOFFSETTO:-0400
TZNAME:EDT
DTSTART:20240310T070000
END:DAYLIGHT
BEGIN:STANDARD
TZOFFSETFROM:-0400
TZOFFSETTO:-0500
TZNAME:EST
DTSTART:20241103T060000
END:STANDARD
BEGIN:DAYLIGHT
TZOFFSETFROM:-0500
TZOFFSETTO:-0400
TZNAME:EDT
DTSTART:20250309T070000
END:DAYLIGHT
BEGIN:STANDARD
TZOFFSETFROM:-0400
TZOFFSETTO:-0500
TZNAME:EST
DTSTART:20251102T060000
END:STANDARD
BEGIN:DAYLIGHT
TZOFFSETFROM:-0500
TZOFFSETTO:-0400
TZNAME:EDT
DTSTART:20260308T070000
END:DAYLIGHT
BEGIN:STANDARD
TZOFFSETFROM:-0400
TZOFFSETTO:-0500
TZNAME:EST
DTSTART:20261101T060000
END:STANDARD
END:VTIMEZONE
BEGIN:VEVENT
DTSTART;TZID=America/New_York:20250928T110000
DTEND;TZID=America/New_York:20250928T120000
DTSTAMP:20260420T103253
CREATED:20250819T144538Z
LAST-MODIFIED:20250819T144539Z
UID:2137-1759057200-1759060800@shiloh-baptist.church
SUMMARY:State Missions Speaker
DESCRIPTION:
URL:https://shiloh-baptist.church/event/state-missions-speaker/
END:VEVENT
BEGIN:VEVENT
DTSTART;TZID=America/New_York:20250928T180000
DTEND;TZID=America/New_York:20250928T200000
DTSTAMP:20260420T103253
CREATED:20250819T144633Z
LAST-MODIFIED:20250819T144634Z
UID:2139-1759082400-1759089600@shiloh-baptist.church
SUMMARY:Youth SNO
DESCRIPTION:
URL:https://shiloh-baptist.church/event/youth-sno-7/
END:VEVENT
BEGIN:VEVENT
DTSTART;TZID=America/New_York:20250928T180000
DTEND;TZID=America/New_York:20250928T200000
DTSTAMP:20260420T103253
CREATED:20250819T145217Z
LAST-MODIFIED:20250819T145218Z
UID:2147-1759082400-1759089600@shiloh-baptist.church
SUMMARY:AWANA
DESCRIPTION:Store Night
URL:https://shiloh-baptist.church/event/awana-6/
END:VEVENT
END:VCALENDAR