BEGIN:VCALENDAR
VERSION:2.0
PRODID:-//Shiloh Baptist Church - ECPv6.15.20//NONSGML v1.0//EN
CALSCALE:GREGORIAN
METHOD:PUBLISH
X-WR-CALNAME:Shiloh Baptist Church
X-ORIGINAL-URL:https://shiloh-baptist.church
X-WR-CALDESC:Events for Shiloh Baptist Church
REFRESH-INTERVAL;VALUE=DURATION:PT1H
X-Robots-Tag:noindex
X-PUBLISHED-TTL:PT1H
BEGIN:VTIMEZONE
TZID:America/New_York
BEGIN:DAYLIGHT
TZOFFSETFROM:-0500
TZOFFSETTO:-0400
TZNAME:EDT
DTSTART:20240310T070000
END:DAYLIGHT
BEGIN:STANDARD
TZOFFSETFROM:-0400
TZOFFSETTO:-0500
TZNAME:EST
DTSTART:20241103T060000
END:STANDARD
BEGIN:DAYLIGHT
TZOFFSETFROM:-0500
TZOFFSETTO:-0400
TZNAME:EDT
DTSTART:20250309T070000
END:DAYLIGHT
BEGIN:STANDARD
TZOFFSETFROM:-0400
TZOFFSETTO:-0500
TZNAME:EST
DTSTART:20251102T060000
END:STANDARD
BEGIN:DAYLIGHT
TZOFFSETFROM:-0500
TZOFFSETTO:-0400
TZNAME:EDT
DTSTART:20260308T070000
END:DAYLIGHT
BEGIN:STANDARD
TZOFFSETFROM:-0400
TZOFFSETTO:-0500
TZNAME:EST
DTSTART:20261101T060000
END:STANDARD
END:VTIMEZONE
BEGIN:VEVENT
DTSTART;TZID=America/New_York:20251019T093000
DTEND;TZID=America/New_York:20251019T100000
DTSTAMP:20260419T072701
CREATED:20251001T172416Z
LAST-MODIFIED:20251001T172417Z
UID:2188-1760866200-1760868000@shiloh-baptist.church
SUMMARY:SUNDAY SCHOOL BREAKFAST
DESCRIPTION:Please bring sausage\, biscuits or your favorite breakfast dish!
URL:https://shiloh-baptist.church/event/sunday-school-breakfast-4/
END:VEVENT
BEGIN:VEVENT
DTSTART;TZID=America/New_York:20251019T110000
DTEND;TZID=America/New_York:20251019T113000
DTSTAMP:20260419T072701
CREATED:20251001T172606Z
LAST-MODIFIED:20251001T172607Z
UID:2190-1760871600-1760873400@shiloh-baptist.church
SUMMARY:GIDEON SPEAKER - AM
DESCRIPTION:
URL:https://shiloh-baptist.church/event/gideon-speaker-am/
END:VEVENT
BEGIN:VEVENT
DTSTART;TZID=America/New_York:20251019T120000
DTEND;TZID=America/New_York:20251019T123000
DTSTAMP:20260419T072701
CREATED:20251001T172700Z
LAST-MODIFIED:20251001T172701Z
UID:2192-1760875200-1760877000@shiloh-baptist.church
SUMMARY:CHURCH CONFERENCE
DESCRIPTION:
URL:https://shiloh-baptist.church/event/church-conference-5/
END:VEVENT
BEGIN:VEVENT
DTSTART;TZID=America/New_York:20251019T170000
DTEND;TZID=America/New_York:20251019T180000
DTSTAMP:20260419T072701
CREATED:20251001T172752Z
LAST-MODIFIED:20251001T172753Z
UID:2194-1760893200-1760896800@shiloh-baptist.church
SUMMARY:COUNCIL MEETING
DESCRIPTION:
URL:https://shiloh-baptist.church/event/council-meeting-5/
END:VEVENT
BEGIN:VEVENT
DTSTART;TZID=America/New_York:20251019T180000
DTEND;TZID=America/New_York:20251019T200000
DTSTAMP:20260419T072701
CREATED:20251001T171656Z
LAST-MODIFIED:20251001T171657Z
UID:2180-1760896800-1760904000@shiloh-baptist.church
SUMMARY:AWANA
DESCRIPTION:OCC Items:  Fun Band-aids\, Sunglasses
URL:https://shiloh-baptist.church/event/awana-9/
END:VEVENT
END:VCALENDAR