BEGIN:VCALENDAR
VERSION:2.0
PRODID:-//Shiloh Baptist Church - ECPv6.15.20//NONSGML v1.0//EN
CALSCALE:GREGORIAN
METHOD:PUBLISH
X-WR-CALNAME:Shiloh Baptist Church
X-ORIGINAL-URL:https://shiloh-baptist.church
X-WR-CALDESC:Events for Shiloh Baptist Church
REFRESH-INTERVAL;VALUE=DURATION:PT1H
X-Robots-Tag:noindex
X-PUBLISHED-TTL:PT1H
BEGIN:VTIMEZONE
TZID:America/New_York
BEGIN:DAYLIGHT
TZOFFSETFROM:-0500
TZOFFSETTO:-0400
TZNAME:EDT
DTSTART:20240310T070000
END:DAYLIGHT
BEGIN:STANDARD
TZOFFSETFROM:-0400
TZOFFSETTO:-0500
TZNAME:EST
DTSTART:20241103T060000
END:STANDARD
BEGIN:DAYLIGHT
TZOFFSETFROM:-0500
TZOFFSETTO:-0400
TZNAME:EDT
DTSTART:20250309T070000
END:DAYLIGHT
BEGIN:STANDARD
TZOFFSETFROM:-0400
TZOFFSETTO:-0500
TZNAME:EST
DTSTART:20251102T060000
END:STANDARD
BEGIN:DAYLIGHT
TZOFFSETFROM:-0500
TZOFFSETTO:-0400
TZNAME:EDT
DTSTART:20260308T070000
END:DAYLIGHT
BEGIN:STANDARD
TZOFFSETFROM:-0400
TZOFFSETTO:-0500
TZNAME:EST
DTSTART:20261101T060000
END:STANDARD
END:VTIMEZONE
BEGIN:VEVENT
DTSTART;TZID=America/New_York:20251026T160000
DTEND;TZID=America/New_York:20251026T180000
DTSTAMP:20260419T072820
CREATED:20251001T173007Z
LAST-MODIFIED:20251001T173008Z
UID:2198-1761494400-1761501600@shiloh-baptist.church
SUMMARY:BUDGET MEETING
DESCRIPTION:
URL:https://shiloh-baptist.church/event/budget-meeting/
END:VEVENT
BEGIN:VEVENT
DTSTART;TZID=America/New_York:20251026T180000
DTEND;TZID=America/New_York:20251026T200000
DTSTAMP:20260419T072820
CREATED:20251001T171812Z
LAST-MODIFIED:20251001T171813Z
UID:2182-1761501600-1761508800@shiloh-baptist.church
SUMMARY:AWANA
DESCRIPTION:OCC Items:  Fun Band-aids\, Sunglasses
URL:https://shiloh-baptist.church/event/awana-10/
END:VEVENT
BEGIN:VEVENT
DTSTART;TZID=America/New_York:20251026T180000
DTEND;TZID=America/New_York:20251026T200000
DTSTAMP:20260419T072820
CREATED:20251001T173045Z
LAST-MODIFIED:20251001T173046Z
UID:2200-1761501600-1761508800@shiloh-baptist.church
SUMMARY:YOUTH SNO
DESCRIPTION:
URL:https://shiloh-baptist.church/event/youth-sno-8/
END:VEVENT
END:VCALENDAR