BEGIN:VCALENDAR
VERSION:2.0
PRODID:-//Shiloh Baptist Church - ECPv6.15.20//NONSGML v1.0//EN
CALSCALE:GREGORIAN
METHOD:PUBLISH
X-ORIGINAL-URL:https://shiloh-baptist.church
X-WR-CALDESC:Events for Shiloh Baptist Church
REFRESH-INTERVAL;VALUE=DURATION:PT1H
X-Robots-Tag:noindex
X-PUBLISHED-TTL:PT1H
BEGIN:VTIMEZONE
TZID:America/New_York
BEGIN:DAYLIGHT
TZOFFSETFROM:-0500
TZOFFSETTO:-0400
TZNAME:EDT
DTSTART:20250309T070000
END:DAYLIGHT
BEGIN:STANDARD
TZOFFSETFROM:-0400
TZOFFSETTO:-0500
TZNAME:EST
DTSTART:20251102T060000
END:STANDARD
BEGIN:DAYLIGHT
TZOFFSETFROM:-0500
TZOFFSETTO:-0400
TZNAME:EDT
DTSTART:20260308T070000
END:DAYLIGHT
BEGIN:STANDARD
TZOFFSETFROM:-0400
TZOFFSETTO:-0500
TZNAME:EST
DTSTART:20261101T060000
END:STANDARD
BEGIN:DAYLIGHT
TZOFFSETFROM:-0500
TZOFFSETTO:-0400
TZNAME:EDT
DTSTART:20270314T070000
END:DAYLIGHT
BEGIN:STANDARD
TZOFFSETFROM:-0400
TZOFFSETTO:-0500
TZNAME:EST
DTSTART:20271107T060000
END:STANDARD
END:VTIMEZONE
BEGIN:VEVENT
DTSTART;TZID=America/New_York:20260104T000000
DTEND;TZID=America/New_York:20260104T235959
DTSTAMP:20260419T082404
CREATED:20251227T194028Z
LAST-MODIFIED:20251227T194030Z
UID:2356-1767484800-1767571199@shiloh-baptist.church
SUMMARY:Deacon of the Week
DESCRIPTION:Jeff Gordon
URL:https://shiloh-baptist.church/event/deacon-of-the-week/
END:VEVENT
BEGIN:VEVENT
DTSTART;TZID=America/New_York:20260104T080000
DTEND;TZID=America/New_York:20260104T090000
DTSTAMP:20260419T082404
CREATED:20251227T180137Z
LAST-MODIFIED:20251227T180138Z
UID:2338-1767513600-1767517200@shiloh-baptist.church
SUMMARY:Deacons Meeting
DESCRIPTION:Devotion by Eric Sellers
URL:https://shiloh-baptist.church/event/deacons-meeting-10/
END:VEVENT
BEGIN:VEVENT
DTSTART;TZID=America/New_York:20260104T110000
DTEND;TZID=America/New_York:20260104T120000
DTSTAMP:20260419T082404
CREATED:20251227T180901Z
LAST-MODIFIED:20251227T192833Z
UID:2340-1767524400-1767528000@shiloh-baptist.church
SUMMARY:Revival Begins
DESCRIPTION:Tim Cross Speaker – AM
URL:https://shiloh-baptist.church/event/revival-begins/
END:VEVENT
BEGIN:VEVENT
DTSTART;TZID=America/New_York:20260104T120000
DTEND;TZID=America/New_York:20260104T130000
DTSTAMP:20260419T082404
CREATED:20251227T193918Z
LAST-MODIFIED:20251227T193919Z
UID:2354-1767528000-1767531600@shiloh-baptist.church
SUMMARY:Revival Noon Meal
DESCRIPTION:Please bring your favorite side dish.  Come and join us!
URL:https://shiloh-baptist.church/event/revival-noon-meal/
END:VEVENT
BEGIN:VEVENT
DTSTART;TZID=America/New_York:20260104T183000
DTEND;TZID=America/New_York:20260104T193000
DTSTAMP:20260419T082404
CREATED:20251227T193551Z
LAST-MODIFIED:20251227T205914Z
UID:2352-1767551400-1767555000@shiloh-baptist.church
SUMMARY:Revival PM
DESCRIPTION:David Chapman – Speaker  /  \n\n\n\nMusicians – Antioch
URL:https://shiloh-baptist.church/event/revival-pm/
END:VEVENT
END:VCALENDAR