BEGIN:VCALENDAR
VERSION:2.0
PRODID:-//Shiloh Baptist Church - ECPv6.15.20//NONSGML v1.0//EN
CALSCALE:GREGORIAN
METHOD:PUBLISH
X-ORIGINAL-URL:https://shiloh-baptist.church
X-WR-CALDESC:Events for Shiloh Baptist Church
REFRESH-INTERVAL;VALUE=DURATION:PT1H
X-Robots-Tag:noindex
X-PUBLISHED-TTL:PT1H
BEGIN:VTIMEZONE
TZID:America/New_York
BEGIN:DAYLIGHT
TZOFFSETFROM:-0500
TZOFFSETTO:-0400
TZNAME:EDT
DTSTART:20250309T070000
END:DAYLIGHT
BEGIN:STANDARD
TZOFFSETFROM:-0400
TZOFFSETTO:-0500
TZNAME:EST
DTSTART:20251102T060000
END:STANDARD
BEGIN:DAYLIGHT
TZOFFSETFROM:-0500
TZOFFSETTO:-0400
TZNAME:EDT
DTSTART:20260308T070000
END:DAYLIGHT
BEGIN:STANDARD
TZOFFSETFROM:-0400
TZOFFSETTO:-0500
TZNAME:EST
DTSTART:20261101T060000
END:STANDARD
BEGIN:DAYLIGHT
TZOFFSETFROM:-0500
TZOFFSETTO:-0400
TZNAME:EDT
DTSTART:20270314T070000
END:DAYLIGHT
BEGIN:STANDARD
TZOFFSETFROM:-0400
TZOFFSETTO:-0500
TZNAME:EST
DTSTART:20271107T060000
END:STANDARD
END:VTIMEZONE
BEGIN:VEVENT
DTSTART;TZID=America/New_York:20260118T000000
DTEND;TZID=America/New_York:20260118T235959
DTSTAMP:20260419T075937
CREATED:20251227T205033Z
LAST-MODIFIED:20251227T205034Z
UID:2375-1768694400-1768780799@shiloh-baptist.church
SUMMARY:Winter Jam - Youth
DESCRIPTION:
URL:https://shiloh-baptist.church/event/winter-jam-youth/
END:VEVENT
BEGIN:VEVENT
DTSTART;TZID=America/New_York:20260118T000000
DTEND;TZID=America/New_York:20260118T235959
DTSTAMP:20260419T075937
CREATED:20251227T205123Z
LAST-MODIFIED:20251227T205124Z
UID:2377-1768694400-1768780799@shiloh-baptist.church
SUMMARY:Deacon of the Week
DESCRIPTION:Mack Herrington
URL:https://shiloh-baptist.church/event/deacon-of-the-week-3/
END:VEVENT
BEGIN:VEVENT
DTSTART;TZID=America/New_York:20260118T120000
DTEND;TZID=America/New_York:20260118T123000
DTSTAMP:20260419T075937
CREATED:20251227T204838Z
LAST-MODIFIED:20251227T204840Z
UID:2371-1768737600-1768739400@shiloh-baptist.church
SUMMARY:Church Conference
DESCRIPTION:
URL:https://shiloh-baptist.church/event/church-conference-8/
END:VEVENT
BEGIN:VEVENT
DTSTART;TZID=America/New_York:20260118T160000
DTEND;TZID=America/New_York:20260118T170000
DTSTAMP:20260419T075937
CREATED:20251227T204942Z
LAST-MODIFIED:20251227T204944Z
UID:2373-1768752000-1768755600@shiloh-baptist.church
SUMMARY:Council Meeting
DESCRIPTION:
URL:https://shiloh-baptist.church/event/council-meeting-8/
END:VEVENT
END:VCALENDAR