BEGIN:VCALENDAR
VERSION:2.0
PRODID:-//Shiloh Baptist Church - ECPv6.15.20//NONSGML v1.0//EN
CALSCALE:GREGORIAN
METHOD:PUBLISH
X-WR-CALNAME:Shiloh Baptist Church
X-ORIGINAL-URL:https://shiloh-baptist.church
X-WR-CALDESC:Events for Shiloh Baptist Church
REFRESH-INTERVAL;VALUE=DURATION:PT1H
X-Robots-Tag:noindex
X-PUBLISHED-TTL:PT1H
BEGIN:VTIMEZONE
TZID:America/New_York
BEGIN:DAYLIGHT
TZOFFSETFROM:-0500
TZOFFSETTO:-0400
TZNAME:EDT
DTSTART:20240310T070000
END:DAYLIGHT
BEGIN:STANDARD
TZOFFSETFROM:-0400
TZOFFSETTO:-0500
TZNAME:EST
DTSTART:20241103T060000
END:STANDARD
BEGIN:DAYLIGHT
TZOFFSETFROM:-0500
TZOFFSETTO:-0400
TZNAME:EDT
DTSTART:20250309T070000
END:DAYLIGHT
BEGIN:STANDARD
TZOFFSETFROM:-0400
TZOFFSETTO:-0500
TZNAME:EST
DTSTART:20251102T060000
END:STANDARD
BEGIN:DAYLIGHT
TZOFFSETFROM:-0500
TZOFFSETTO:-0400
TZNAME:EDT
DTSTART:20260308T070000
END:DAYLIGHT
BEGIN:STANDARD
TZOFFSETFROM:-0400
TZOFFSETTO:-0500
TZNAME:EST
DTSTART:20261101T060000
END:STANDARD
END:VTIMEZONE
BEGIN:VEVENT
DTSTART;TZID=America/New_York:20250308T000000
DTEND;TZID=America/New_York:20250308T235959
DTSTAMP:20260419T163357
CREATED:20250222T181612Z
LAST-MODIFIED:20250222T191740Z
UID:1783-1741392000-1741478399@shiloh-baptist.church
SUMMARY:Set Clocks Forward 1 hour
DESCRIPTION:
URL:https://shiloh-baptist.church/event/set-clocks-forward-1-hour/
END:VEVENT
BEGIN:VEVENT
DTSTART;TZID=America/New_York:20250305T130000
DTEND;TZID=America/New_York:20250305T140000
DTSTAMP:20260419T163357
CREATED:20250222T175731Z
LAST-MODIFIED:20250222T235615Z
UID:1777-1741179600-1741183200@shiloh-baptist.church
SUMMARY:Prayer Service
DESCRIPTION:
URL:https://shiloh-baptist.church/event/prayer-service/
END:VEVENT
BEGIN:VEVENT
DTSTART;TZID=America/New_York:20250304T190000
DTEND;TZID=America/New_York:20250304T200000
DTSTAMP:20260419T163357
CREATED:20250222T175335Z
LAST-MODIFIED:20250222T235558Z
UID:1775-1741114800-1741118400@shiloh-baptist.church
SUMMARY:Deacon's Meeting
DESCRIPTION:
URL:https://shiloh-baptist.church/event/deacons-meeting/
END:VEVENT
BEGIN:VEVENT
DTSTART;TZID=America/New_York:20250302T121500
DTEND;TZID=America/New_York:20250302T180000
DTSTAMP:20260419T163357
CREATED:20250222T172648Z
LAST-MODIFIED:20250222T235443Z
UID:1768-1740917700-1740938400@shiloh-baptist.church
SUMMARY:Youth Trip to Hollywood Connection
DESCRIPTION:
URL:https://shiloh-baptist.church/event/youth-trip-to-hollywood-connection/
END:VEVENT
BEGIN:VEVENT
DTSTART;TZID=America/New_York:20250302T093000
DTEND;TZID=America/New_York:20250302T100000
DTSTAMP:20260419T163357
CREATED:20250222T172653Z
LAST-MODIFIED:20250222T235405Z
UID:1766-1740907800-1740909600@shiloh-baptist.church
SUMMARY:Sunday School Breakfast
DESCRIPTION:
URL:https://shiloh-baptist.church/event/breakfast/
END:VEVENT
END:VCALENDAR